BEGIN:VCALENDAR
VERSION:2.0
PRODID:-//Nazareth College of Arts And Science - ECPv6.15.9//NONSGML v1.0//EN
CALSCALE:GREGORIAN
METHOD:PUBLISH
X-WR-CALNAME:Nazareth College of Arts And Science
X-ORIGINAL-URL:https://ncas.in
X-WR-CALDESC:Events for Nazareth College of Arts And Science
REFRESH-INTERVAL;VALUE=DURATION:PT1H
X-Robots-Tag:noindex
X-PUBLISHED-TTL:PT1H
BEGIN:VTIMEZONE
TZID:Asia/Kolkata
BEGIN:STANDARD
TZOFFSETFROM:+0530
TZOFFSETTO:+0530
TZNAME:IST
DTSTART:20220101T000000
END:STANDARD
END:VTIMEZONE
BEGIN:VEVENT
DTSTART;TZID=Asia/Kolkata:20240821T080000
DTEND;TZID=Asia/Kolkata:20240821T170000
DTSTAMP:20260423T002328
CREATED:20240830T091830Z
LAST-MODIFIED:20240830T092300Z
UID:14804-1724227200-1724259600@ncas.in
SUMMARY:Innovative Teaching In SDG
DESCRIPTION:
URL:https://ncas.in/event/innovative-teaching-in-sdg/
CATEGORIES:Completed Events
ATTACH;FMTTYPE=image/jpeg:https://ncas.in/wp-content/uploads/2024/08/21st-AUG.jpg
END:VEVENT
BEGIN:VEVENT
DTSTART;TZID=Asia/Kolkata:20240815T080000
DTEND;TZID=Asia/Kolkata:20240816T170000
DTSTAMP:20260423T002328
CREATED:20240819T052254Z
LAST-MODIFIED:20240819T064533Z
UID:14183-1723708800-1723827600@ncas.in
SUMMARY:NAPSWI
DESCRIPTION:National Association of Professional Social Workers in India (NAPSWI) is celebrating its 5th National Social Work Week from August 15–21\, 2024. The theme for this year’s event is “School Social Work: Opportunities and Challenges”. The theme was chosen in light of the role of school social work in the 2020 education policy. The department joined hands in celebrating Social Work Week.
URL:https://ncas.in/event/napswi/
CATEGORIES:Completed Events
ATTACH;FMTTYPE=image/jpeg:https://ncas.in/wp-content/uploads/2024/08/Poster.jpg
END:VEVENT
BEGIN:VEVENT
DTSTART;TZID=Asia/Kolkata:20240809T080000
DTEND;TZID=Asia/Kolkata:20240809T170000
DTSTAMP:20260423T002328
CREATED:20240814T060211Z
LAST-MODIFIED:20240819T064323Z
UID:14098-1723190400-1723222800@ncas.in
SUMMARY:Unnat Bharat Abhiyan
DESCRIPTION:  \n\n\nvvv1.5\nvv1.4\nvv1.3\nvv1.2\nvv1.1Credit: Freemake slider plugin for Wordpress
URL:https://ncas.in/event/unnat-bharat-abhiyan/
CATEGORIES:Completed Events
ATTACH;FMTTYPE=image/jpeg:https://ncas.in/wp-content/uploads/2024/08/VV-Feature-Image.jpg
END:VEVENT
BEGIN:VEVENT
DTSTART;TZID=Asia/Kolkata:20240418T170000
DTEND;TZID=Asia/Kolkata:20240418T200000
DTSTAMP:20260423T002328
CREATED:20240515T054341Z
LAST-MODIFIED:20240819T073033Z
UID:10941-1713459600-1713470400@ncas.in
SUMMARY:18th Graduation Day
DESCRIPTION:
URL:https://ncas.in/event/18th-graduation-day/
CATEGORIES:Completed Events
ATTACH;FMTTYPE=image/jpeg:https://ncas.in/wp-content/uploads/2024/05/4xfUzaKU78A-HD.jpg
END:VEVENT
BEGIN:VEVENT
DTSTART;TZID=Asia/Kolkata:20240129T100000
DTEND;TZID=Asia/Kolkata:20240129T170000
DTSTAMP:20260423T002328
CREATED:20240129T102055Z
LAST-MODIFIED:20240130T101919Z
UID:10514-1706522400-1706547600@ncas.in
SUMMARY:Entrepreneurship Skill Attitude And Behaviour Development Workshop
DESCRIPTION:
URL:https://ncas.in/event/entrepreneurship-skill-attitude-and-behaviour-development-workshop/
CATEGORIES:Completed Events
END:VEVENT
BEGIN:VEVENT
DTSTART;TZID=Asia/Kolkata:20240124T090000
DTEND;TZID=Asia/Kolkata:20240124T150000
DTSTAMP:20260423T002328
CREATED:20240124T065201Z
LAST-MODIFIED:20240129T103336Z
UID:10479-1706086800-1706108400@ncas.in
SUMMARY:Job Fair 2024
DESCRIPTION:
URL:https://ncas.in/event/job-fair-2024/
CATEGORIES:Completed Events
END:VEVENT
BEGIN:VEVENT
DTSTART;TZID=Asia/Kolkata:20240123T100000
DTEND;TZID=Asia/Kolkata:20240123T170000
DTSTAMP:20260423T002328
CREATED:20240123T052406Z
LAST-MODIFIED:20240124T065329Z
UID:10473-1706004000-1706029200@ncas.in
SUMMARY:Design Thinking in Computer Application Innovation
DESCRIPTION:
URL:https://ncas.in/event/design-thinking-in-computer-application-innovation/
CATEGORIES:Completed Events
END:VEVENT
BEGIN:VEVENT
DTSTART;TZID=Asia/Kolkata:20240123T100000
DTEND;TZID=Asia/Kolkata:20240123T120000
DTSTAMP:20260423T002328
CREATED:20240124T073557Z
LAST-MODIFIED:20240124T073619Z
UID:10496-1706004000-1706011200@ncas.in
SUMMARY:Campus Drive
DESCRIPTION:
URL:https://ncas.in/event/campus-drive-2/
CATEGORIES:Completed Events
END:VEVENT
BEGIN:VEVENT
DTSTART;TZID=Asia/Kolkata:20240122T123000
DTEND;TZID=Asia/Kolkata:20240122T170000
DTSTAMP:20260423T002328
CREATED:20240124T073017Z
LAST-MODIFIED:20240124T073302Z
UID:10494-1705926600-1705942800@ncas.in
SUMMARY:Campus Drive
DESCRIPTION:
URL:https://ncas.in/event/campus-drive/
CATEGORIES:Completed Events
END:VEVENT
BEGIN:VEVENT
DTSTART;TZID=Asia/Kolkata:20240120T160000
DTEND;TZID=Asia/Kolkata:20240120T180000
DTSTAMP:20260423T002328
CREATED:20240124T070311Z
LAST-MODIFIED:20240124T070332Z
UID:10482-1705766400-1705773600@ncas.in
SUMMARY:Placement Integrated Boot Camp Programs
DESCRIPTION:
URL:https://ncas.in/event/placement-integrated-boot-camp-programs/
CATEGORIES:Completed Events
END:VEVENT
BEGIN:VEVENT
DTSTART;TZID=Asia/Kolkata:20231030T100000
DTEND;TZID=Asia/Kolkata:20231030T160000
DTSTAMP:20260423T002328
CREATED:20231030T054259Z
LAST-MODIFIED:20231031T061835Z
UID:10326-1698660000-1698681600@ncas.in
SUMMARY:Motivational Session by Successful Entrepreneur
DESCRIPTION:
URL:https://ncas.in/event/motivational-session-by-successful-entrepreneur/
CATEGORIES:Completed Events
END:VEVENT
BEGIN:VEVENT
DTSTART;TZID=Asia/Kolkata:20230830T090000
DTEND;TZID=Asia/Kolkata:20230830T170000
DTSTAMP:20260423T002328
CREATED:20230828T044603Z
LAST-MODIFIED:20231031T065052Z
UID:9656-1693386000-1693414800@ncas.in
SUMMARY:Technology Transfer & E-waste
DESCRIPTION:
URL:https://ncas.in/event/technology-transfer-e-waste/
CATEGORIES:Completed Events
END:VEVENT
BEGIN:VEVENT
DTSTART;TZID=Asia/Kolkata:20230829T103000
DTEND;TZID=Asia/Kolkata:20230829T123000
DTSTAMP:20260423T002328
CREATED:20230828T044101Z
LAST-MODIFIED:20230830T054432Z
UID:9653-1693305000-1693312200@ncas.in
SUMMARY:Poster Presentation of Startup
DESCRIPTION:
URL:https://ncas.in/event/poster-presentation-of-startup/
CATEGORIES:Completed Events
END:VEVENT
BEGIN:VEVENT
DTSTART;TZID=Asia/Kolkata:20230821T120000
DTEND;TZID=Asia/Kolkata:20230821T140000
DTSTAMP:20260423T002328
CREATED:20230821T074321Z
LAST-MODIFIED:20230828T044309Z
UID:9646-1692619200-1692626400@ncas.in
SUMMARY:Enterpreneurial Awareness Program
DESCRIPTION:
URL:https://ncas.in/event/enterpreneurial-awareness-program/
CATEGORIES:Completed Events
END:VEVENT
BEGIN:VEVENT
DTSTART;TZID=Asia/Kolkata:20230816T140000
DTEND;TZID=Asia/Kolkata:20230816T150000
DTSTAMP:20260423T002328
CREATED:20230819T070318Z
LAST-MODIFIED:20230819T070341Z
UID:9627-1692194400-1692198000@ncas.in
SUMMARY:Effective Teaching & Learning
DESCRIPTION:
URL:https://ncas.in/event/effective-teaching-learning/
CATEGORIES:Completed Events
END:VEVENT
BEGIN:VEVENT
DTSTART;TZID=Asia/Kolkata:20230816T100000
DTEND;TZID=Asia/Kolkata:20230816T113000
DTSTAMP:20260423T002328
CREATED:20230816T083433Z
LAST-MODIFIED:20230819T065936Z
UID:9621-1692180000-1692185400@ncas.in
SUMMARY:Introduction to Memory Studies
DESCRIPTION:
URL:https://ncas.in/event/introduction-to-memory-studies/
CATEGORIES:Completed Events
END:VEVENT
BEGIN:VEVENT
DTSTART;TZID=Asia/Kolkata:20230811T160000
DTEND;TZID=Asia/Kolkata:20230811T170000
DTSTAMP:20260423T002328
CREATED:20230819T070809Z
LAST-MODIFIED:20230819T070852Z
UID:9630-1691769600-1691773200@ncas.in
SUMMARY:Mentoring Session on Pre incabution
DESCRIPTION:
URL:https://ncas.in/event/mentoring-session-on-pre-incabution/
CATEGORIES:Completed Events
END:VEVENT
BEGIN:VEVENT
DTSTART;TZID=Asia/Kolkata:20230715T100000
DTEND;TZID=Asia/Kolkata:20230715T114500
DTSTAMP:20260423T002328
CREATED:20230715T054707Z
LAST-MODIFIED:20230802T070203Z
UID:9394-1689415200-1689421500@ncas.in
SUMMARY:Orientation Program
DESCRIPTION:
URL:https://ncas.in/event/orientation-program-2/
CATEGORIES:Completed Events
END:VEVENT
BEGIN:VEVENT
DTSTART;TZID=Asia/Kolkata:20230712T093000
DTEND;TZID=Asia/Kolkata:20230712T140000
DTSTAMP:20260423T002328
CREATED:20230715T060257Z
LAST-MODIFIED:20230715T060410Z
UID:9399-1689154200-1689170400@ncas.in
SUMMARY:Academic Presentations Using Microsoft Word\, Excel and PPT
DESCRIPTION:
URL:https://ncas.in/event/academic-presentations-using-microsoft-word-excel-and-ppt/
CATEGORIES:Completed Events
END:VEVENT
BEGIN:VEVENT
DTSTART;TZID=Asia/Kolkata:20230710T100000
DTEND;TZID=Asia/Kolkata:20230710T140000
DTSTAMP:20260423T002328
CREATED:20230706T100434Z
LAST-MODIFIED:20230711T043142Z
UID:9380-1688983200-1688997600@ncas.in
SUMMARY:Orientation Program
DESCRIPTION:
URL:https://ncas.in/event/orientation-program/
CATEGORIES:Completed Events
END:VEVENT
BEGIN:VEVENT
DTSTART;TZID=Asia/Kolkata:20230707T140000
DTEND;TZID=Asia/Kolkata:20230707T150000
DTSTAMP:20260423T002328
CREATED:20230715T061449Z
LAST-MODIFIED:20230715T061529Z
UID:9404-1688738400-1688742000@ncas.in
SUMMARY:Learn Start-up & Minimum Viable Product / Business Boot camp (or) mentoring Session
DESCRIPTION:
URL:https://ncas.in/event/learn-start-up-minimum-viable-product-business-boot-camp-or-mentoring-session/
CATEGORIES:Completed Events
END:VEVENT
BEGIN:VEVENT
DTSTART;TZID=Asia/Kolkata:20230530T080000
DTEND;TZID=Asia/Kolkata:20230530T180000
DTSTAMP:20260423T002328
CREATED:20230715T062928Z
LAST-MODIFIED:20230715T063623Z
UID:9411-1685433600-1685469600@ncas.in
SUMMARY:Technology Transfer
DESCRIPTION:
URL:https://ncas.in/event/technology-transfer/
CATEGORIES:Completed Events
END:VEVENT
BEGIN:VEVENT
DTSTART;TZID=Asia/Kolkata:20230520T090000
DTEND;TZID=Asia/Kolkata:20230520T180000
DTSTAMP:20260423T002328
CREATED:20230715T073104Z
LAST-MODIFIED:20230715T074240Z
UID:9438-1684573200-1684605600@ncas.in
SUMMARY:Cloud Computing
DESCRIPTION:
URL:https://ncas.in/event/cloud-computing/
CATEGORIES:Completed Events
END:VEVENT
BEGIN:VEVENT
DTSTART;TZID=Asia/Kolkata:20230515T110000
DTEND;TZID=Asia/Kolkata:20230515T120000
DTSTAMP:20260423T002328
CREATED:20230715T064146Z
LAST-MODIFIED:20230715T064728Z
UID:9417-1684148400-1684152000@ncas.in
SUMMARY:Business Plan Competition
DESCRIPTION:
URL:https://ncas.in/event/business-plan-competition/
CATEGORIES:Completed Events
END:VEVENT
BEGIN:VEVENT
DTSTART;TZID=Asia/Kolkata:20230511T170000
DTEND;TZID=Asia/Kolkata:20230511T190000
DTSTAMP:20260423T002328
CREATED:20230715T065217Z
LAST-MODIFIED:20230715T065921Z
UID:9425-1683824400-1683831600@ncas.in
SUMMARY:Technology Day
DESCRIPTION:
URL:https://ncas.in/event/technology-day/
CATEGORIES:Completed Events
END:VEVENT
BEGIN:VEVENT
DTSTART;TZID=Asia/Kolkata:20230509T103000
DTEND;TZID=Asia/Kolkata:20230509T113000
DTSTAMP:20260423T002328
CREATED:20230715T070831Z
LAST-MODIFIED:20230715T070933Z
UID:9433-1683628200-1683631800@ncas.in
SUMMARY:Innovation /Prototype Validation - Converting Innovation into Start-up or Session on Value Proposition Fit & Business Fit
DESCRIPTION:
URL:https://ncas.in/event/innovation-prototype-validation-converting-innovation-into-start-up-or-session-on-value-proposition-fit-business-fit/
CATEGORIES:Completed Events
END:VEVENT
BEGIN:VEVENT
DTSTART;TZID=Asia/Kolkata:20230308T120000
DTEND;TZID=Asia/Kolkata:20230308T170000
DTSTAMP:20260423T002328
CREATED:20230308T123930Z
LAST-MODIFIED:20230308T123958Z
UID:8832-1678276800-1678294800@ncas.in
SUMMARY:Womens Day Celebration 2023
DESCRIPTION:
URL:https://ncas.in/event/womens-day-celebration-2/
CATEGORIES:Completed Events
END:VEVENT
BEGIN:VEVENT
DTSTART;TZID=Asia/Kolkata:20230308T110000
DTEND;TZID=Asia/Kolkata:20230308T170000
DTSTAMP:20260423T002328
CREATED:20230308T124300Z
LAST-MODIFIED:20230308T124300Z
UID:8842-1678273200-1678294800@ncas.in
SUMMARY:Placement Orientation
DESCRIPTION:
URL:https://ncas.in/event/placement-orientation/
CATEGORIES:Completed Events
END:VEVENT
BEGIN:VEVENT
DTSTART;TZID=Asia/Kolkata:20230308T070000
DTEND;TZID=Asia/Kolkata:20230308T170000
DTSTAMP:20260423T002328
CREATED:20230308T124142Z
LAST-MODIFIED:20230308T124142Z
UID:8837-1678258800-1678294800@ncas.in
SUMMARY:Excelsior 2023
DESCRIPTION:
URL:https://ncas.in/event/excelsior-2023/
CATEGORIES:Completed Events
END:VEVENT
BEGIN:VEVENT
DTSTART;TZID=Asia/Kolkata:20230306T030000
DTEND;TZID=Asia/Kolkata:20230306T160000
DTSTAMP:20260423T002328
CREATED:20230308T124459Z
LAST-MODIFIED:20230308T124459Z
UID:8844-1678071600-1678118400@ncas.in
SUMMARY:Mutual Funds for Beginners
DESCRIPTION:
URL:https://ncas.in/event/mutual-funds-for-beginners/
CATEGORIES:Completed Events
END:VEVENT
END:VCALENDAR