BEGIN:VCALENDAR
VERSION:2.0
PRODID:-//Nazareth College of Arts And Science - ECPv6.15.9//NONSGML v1.0//EN
CALSCALE:GREGORIAN
METHOD:PUBLISH
X-ORIGINAL-URL:https://ncas.in
X-WR-CALDESC:Events for Nazareth College of Arts And Science
REFRESH-INTERVAL;VALUE=DURATION:PT1H
X-Robots-Tag:noindex
X-PUBLISHED-TTL:PT1H
BEGIN:VTIMEZONE
TZID:UTC
BEGIN:STANDARD
TZOFFSETFROM:+0000
TZOFFSETTO:+0000
TZNAME:UTC
DTSTART:20190101T000000
END:STANDARD
END:VTIMEZONE
BEGIN:VEVENT
DTSTART;TZID=UTC:20201031T113000
DTEND;TZID=UTC:20201031T150000
DTSTAMP:20260423T090620
CREATED:20201030T231024Z
LAST-MODIFIED:20201103T230054Z
UID:7893-1604143800-1604156400@ncas.in
SUMMARY:National Unity Day
DESCRIPTION:  \nDear Faculty members and students\, \nGreetings from \nNAZARETH COLLEGE OF ARTS AND SCIENCE\nKovilpathagai Main Road\, Kannadapalayam\, Avadi Chennai – 6000062\n(Affiliated to University of Madras Re Accredited by NAAC with”B” Grade) \nOur College NSS UNIT-1 & UNIT-2 celebrates an “NATIONAL UNITY DAY“2020 by organising a Pledge Taking Ceremony to reinforce our commitment preserve and strengthen Unity\, Integrity and Security of our nation by celebrating it as 🇮🇳  NATIONAL UNITY DAY  🇮🇳  (Rashtriya Ekta Diwas) to commemorate the Birth Anniversary of Sadar Vallabhbhai Patel. \n Google Meet Links \nAll Are Invited \n31 October 31\,2020\, @12 noon \nWe invites all of our students to participate \nWear Mask! Stay safe!😷\nThankyou🙏 \n\n\n\n\nPATRONS\nNSS PROGRAM OFFICER\nSTUDENT VOLUNTEER\n\n\nMr. A.N.Henry Maris\nSecretary\,\nNazareth College of Arts and science College \nDr. E Mary Angeline\nPrincipal\,\nNazareth College of Arts and Science College\nDr. D.Senthil\nNazareth College of Arts and science College\nShift II \nMr. M.Loganathan\nNazareth College of Arts and science College\nShift II\nV. Arunkumar\nII B.SC Computer Science\nNazareth College of Arts and science College\nShift II
URL:https://ncas.in/event/national-unity-day/
CATEGORIES:Completed Events
END:VEVENT
BEGIN:VEVENT
DTSTART;TZID=UTC:20200830T083000
DTEND;TZID=UTC:20200830T233000
DTSTAMP:20260423T090620
CREATED:20201015T080452Z
LAST-MODIFIED:20201015T080452Z
UID:7731-1598776200-1598830200@ncas.in
SUMMARY:Nerf India In Collaboration With Greater Chennai Corporation
DESCRIPTION:Handwashing training to children Zone 7 by NERF INDIA IN COLLABORATION WITH GREATER CHENNAO CORPORATION\nDone by Ms.Jayalakshmi MSW Field Supervisor Zone 7\nDivision 89 Padi Round Buiding \n  \nLink to Register for the Webinar  Register
URL:https://ncas.in/event/nerf-india-in-collaboration-with-greater-chennai-corporation/
CATEGORIES:Completed Events
END:VEVENT
BEGIN:VEVENT
DTSTART;TZID=UTC:20200822T070000
DTEND;TZID=UTC:20201031T233000
DTSTAMP:20260423T090620
CREATED:20180816T063220Z
LAST-MODIFIED:20201103T230132Z
UID:5993-1598079600-1604187000@ncas.in
SUMMARY:Webinar Series for Competitive Examination)
DESCRIPTION:  \n Web Links
URL:https://ncas.in/event/webinar-series-for-competitive-examination/
CATEGORIES:Completed Events
END:VEVENT
BEGIN:VEVENT
DTSTART;TZID=UTC:20200821T070000
DTEND;TZID=UTC:20200821T233000
DTSTAMP:20260423T090620
CREATED:20201015T080127Z
LAST-MODIFIED:20201015T080127Z
UID:7728-1597993200-1598052600@ncas.in
SUMMARY:Computer Science - Workshop
DESCRIPTION:
URL:https://ncas.in/event/computer-science-workshop/
CATEGORIES:Completed Events
END:VEVENT
BEGIN:VEVENT
DTSTART;TZID=UTC:20200819T070000
DTEND;TZID=UTC:20200819T233000
DTSTAMP:20260423T090620
CREATED:20201015T075801Z
LAST-MODIFIED:20201015T075801Z
UID:7725-1597820400-1597879800@ncas.in
SUMMARY:Webinar On Campus Placements During Covid-19 @ Chennai
DESCRIPTION:Link to Register for the Webinar  Register
URL:https://ncas.in/event/webinar-on-campus-placements-during-covid-19-chennai/
CATEGORIES:Completed Events
END:VEVENT
BEGIN:VEVENT
DTSTART;TZID=UTC:20200729T070000
DTEND;TZID=UTC:20200729T233000
DTSTAMP:20260423T090620
CREATED:20201015T074624Z
LAST-MODIFIED:20201015T074624Z
UID:7719-1596006000-1596065400@ncas.in
SUMMARY:Eco Club & Nerf India Jointly Presents A Webinar
DESCRIPTION:Link to Register for the Webinar  Register
URL:https://ncas.in/event/eco-club-nerf-india-jointly-presents-a-webinar/
CATEGORIES:Completed Events
END:VEVENT
BEGIN:VEVENT
DTSTART;TZID=UTC:20200722T100000
DTEND;TZID=UTC:20201128T163000
DTSTAMP:20260423T090620
CREATED:20180816T062715Z
LAST-MODIFIED:20210611T020740Z
UID:5989-1595412000-1606581000@ncas.in
SUMMARY:NCC Training schedule for online classes
DESCRIPTION:NCC Training schedule for online classes (Google Meet)
URL:https://ncas.in/event/ncc-training-schedule-for-online-classes/
CATEGORIES:Completed Events
END:VEVENT
BEGIN:VEVENT
DTSTART;TZID=UTC:20200722T070000
DTEND;TZID=UTC:20200722T233000
DTSTAMP:20260423T090620
CREATED:20201015T074305Z
LAST-MODIFIED:20201015T074305Z
UID:7716-1595401200-1595460600@ncas.in
SUMMARY:Tree Plantation Pakhwada
DESCRIPTION:Tree Plantation Pakhwada
URL:https://ncas.in/event/tree-plantation-pakhwada/
CATEGORIES:Completed Events
END:VEVENT
BEGIN:VEVENT
DTSTART;TZID=UTC:20200711T070000
DTEND;TZID=UTC:20200712T233000
DTSTAMP:20260423T090620
CREATED:20201015T073930Z
LAST-MODIFIED:20201015T073956Z
UID:7712-1594450800-1594596600@ncas.in
SUMMARY:National Level Webinar
DESCRIPTION:Link to Register for the Webinar  Register
URL:https://ncas.in/event/national-level-webinar/
CATEGORIES:Completed Events
END:VEVENT
BEGIN:VEVENT
DTSTART;TZID=UTC:20200707T070000
DTEND;TZID=UTC:20200711T233000
DTSTAMP:20260423T090620
CREATED:20201015T073529Z
LAST-MODIFIED:20201015T073609Z
UID:7710-1594105200-1594510200@ncas.in
SUMMARY:National Level E-Quiz on "General Knowledge"
DESCRIPTION:National Level E-Quiz on “General Knowledge”\nDear Faculty Members and Students\nGreetings from Nazareth College of Arts and Science\, Avadi\, Chennai\, India.\nWe are happy to inform you that the Department of Computer Applications in association with Internal Quality Assurance Cell is conducting ” National Level E-Quiz ” for the Scholars\, Faculty members and students. \nWe invite all to participate in all the three quiz. \nQuiz Link will be available from 07.07.2020(Tuesday) to 11.07.2020(Saturday) \nNo registration Fee \nQuiz link:\n1. General Knowledge: Register \n2. Programming Languages: Register \n3. Emerging Technologies: Register \nInstructions to the participants:\nThe quiz link will be active from 🕘9.00am to 🕙10.00pm. \nEach participant can participate only once. \nE-certificates will be sent to the registered email who obtain a minimum of 50% score.
URL:https://ncas.in/event/national-level-e-quiz-on-general-knowledge/
CATEGORIES:Completed Events
END:VEVENT
BEGIN:VEVENT
DTSTART;TZID=UTC:20200707T070000
DTEND;TZID=UTC:20200707T233000
DTSTAMP:20260423T090620
CREATED:20201015T075016Z
LAST-MODIFIED:20201015T075026Z
UID:7722-1594105200-1594164600@ncas.in
SUMMARY:National Education Policy-2020
DESCRIPTION:National Education Policy-2020
URL:https://ncas.in/event/national-education-policy-2020/
CATEGORIES:Completed Events
END:VEVENT
BEGIN:VEVENT
DTSTART;TZID=UTC:20200706T070000
DTEND;TZID=UTC:20200708T233000
DTSTAMP:20260423T090620
CREATED:20201015T073242Z
LAST-MODIFIED:20201015T073243Z
UID:7708-1594018800-1594251000@ncas.in
SUMMARY:National Level- Biz Buzz-e Quiz-2020
DESCRIPTION:NATIONAL LEVEL- BIZ BUZZ-E QUIZ-2020\nDear Faculty Members and Students\nGreetings from Nazareth College of Arts and Science\, Avadi\, Chennai\, India.\n️We are happy to inform you that the Department of Business Administration Shift – I in association with Internal Quality Association Cell is Conducting National level – BIZ BUZZ – E QUIZ 2020 for students /Faculty members/Research scholars. \nDate: From 06.07.2020 to 08.07.2020 \nNo registration Fee \nOn Successful completion of the quiz\, participants scoring above 50% will receive e-certificate through the registered e-mail ID \nLoading…
URL:https://ncas.in/event/national-level-biz-buzz-e-quiz-2020/
CATEGORIES:Completed Events
END:VEVENT
BEGIN:VEVENT
DTSTART;TZID=UTC:20200701T080000
DTEND;TZID=UTC:20200701T123000
DTSTAMP:20260423T090620
CREATED:20201015T072659Z
LAST-MODIFIED:20201015T072659Z
UID:7706-1593590400-1593606600@ncas.in
SUMMARY:Interaction-management & Parents
DESCRIPTION:Interaction-management & Parents\nThe college organized an interaction with parents of present 2nd and 3rd years to know their status during the lockdown. Further the parents were also explained about the UGC and MHRD decision regarding exams and also advised to prepare themselves for the online teaching initiative. The parents were ready and requested the management to start classes and also give writing work for their wards. They were also anxious to know when the college will re-open and the process of final exams for their wards. The parents were encouraged to keep their children occupied and be in touch with the department heads for any need. The parents welcomed the initiative of having this interaction to understand their opinion regarding Online teaching. This meeting helped the management to understand the readiness of the students and parent to online teaching. \n\nCredit: Freemake slider plugin for Wordpress
URL:https://ncas.in/event/interaction-management-parents/
CATEGORIES:Completed Events
END:VEVENT
BEGIN:VEVENT
DTSTART;TZID=UTC:20200630T080000
DTEND;TZID=UTC:20200630T123000
DTSTAMP:20260423T090620
CREATED:20180816T062159Z
LAST-MODIFIED:20201015T071402Z
UID:5982-1593504000-1593520200@ncas.in
SUMMARY:CS Department International webinar
DESCRIPTION:CS Department International webinar\nThe Department of Computer Science conducted International webinar on “Software as a service in cloud computing – The big Picture” for Students\, Assistant Professors\, Research Scholars and Industrialists on 30th June 2020 between 10 AM and 11 AM through Google Meet. The Resource person for the webinar was Mr. Jim Nelson\, Senior Software Engineer\, Cox Automotive\, Phoenix\, AZ\, USA. Two Hundred participants actively joined the webinar. The participants were different states of India and from other countries like Singapore\, Malaysia and USA.
URL:https://ncas.in/event/cs-department-international-webinar/
CATEGORIES:Completed Events
END:VEVENT
BEGIN:VEVENT
DTSTART;TZID=UTC:20200617T130000
DTEND;TZID=UTC:20200617T170000
DTSTAMP:20260423T090620
CREATED:20180816T062247Z
LAST-MODIFIED:20201015T071012Z
UID:5984-1592398800-1592413200@ncas.in
SUMMARY:Career Guidance Webinar
DESCRIPTION:Career Guidance Webinar\n  \n Register Links
URL:https://ncas.in/event/career-guidance-webinar/
CATEGORIES:Completed Events
END:VEVENT
BEGIN:VEVENT
DTSTART;TZID=UTC:20200321T000000
DTEND;TZID=UTC:20200321T000000
DTSTAMP:20260423T090620
CREATED:20180816T062533Z
LAST-MODIFIED:20201015T070445Z
UID:5986-1584748800-1584748800@ncas.in
SUMMARY:Nazareth Reunion 2020
DESCRIPTION:Nazareth Reunion 2020\n \n Register Links
URL:https://ncas.in/event/nazareth-reunion-2020/
CATEGORIES:Completed Events
END:VEVENT
BEGIN:VEVENT
DTSTART;TZID=UTC:20200307T080000
DTEND;TZID=UTC:20200308T121400
DTSTAMP:20260423T090620
CREATED:20180816T061427Z
LAST-MODIFIED:20201015T064611Z
UID:5976-1583568000-1583669640@ncas.in
SUMMARY:Graduation Day
DESCRIPTION:Graduation Day\n \n Register Links
URL:https://ncas.in/event/graduation-day/
CATEGORIES:Completed Events
END:VEVENT
END:VCALENDAR